BEGIN:VCALENDAR
VERSION:2.0
PRODID:-//Trauma Institute &amp; Child Trauma Institute - ECPv6.15.17//NONSGML v1.0//EN
CALSCALE:GREGORIAN
METHOD:PUBLISH
X-WR-CALNAME:Trauma Institute &amp; Child Trauma Institute
X-ORIGINAL-URL:https://www.ticti.org
X-WR-CALDESC:Events for Trauma Institute &amp; Child Trauma Institute
REFRESH-INTERVAL;VALUE=DURATION:PT1H
X-Robots-Tag:noindex
X-PUBLISHED-TTL:PT1H
BEGIN:VTIMEZONE
TZID:UTC
BEGIN:STANDARD
TZOFFSETFROM:+0000
TZOFFSETTO:+0000
TZNAME:UTC
DTSTART:20250101T000000
END:STANDARD
END:VTIMEZONE
BEGIN:VEVENT
DTSTART;TZID=UTC:20261207T130000
DTEND;TZID=UTC:20261207T163000
DTSTAMP:20260419T125839
CREATED:20260417T174742Z
LAST-MODIFIED:20260417T175204Z
UID:52380-1796648400-1796661000@www.ticti.org
SUMMARY:Attachment & Dissociation - Winter 2026 (December 7-10\, 2026) Half Days - Live Online
DESCRIPTION:Winter 2026 – Live Online\nDecember 7 – 10. All days are 1:00 – 4:30 Eastern Standard Time unless otherwise specified. \nInstructors: Elizabeth Davis\, MS. and Jessica Horder\, MS\, LMHC.\n\nPrice includes CEs. \n			\n				\n	\n		Attachment & Dissociation – Winter 2026 – December 7 – 10 half days\, 2026 – Live Online\n	Price includes CEs. \n\n\n	$355.00\n	\n		If you are an organization purchasing in behalf of the attendees\, you will need to purchase the training product individually for each attendee.\n Trainee First Name *Trainee Last Name *Trainee's Primary Contact Email *Trainee's License Title *Trainee's License Number *Are you trained in EMDR or PC? *Please selectYesNoHow did you hear about us? *-select one-TICTI NewsletterFacebookLinkedInWeb Search EngineGoogle AdTICTI EmployeeFormer TICTI TraineeOther\n		\n		Attachment & Dissociation - Winter 2026 - December 7 - 10 half days\, 2026 - Live Online quantity\n	\n	\n\n		Add to cart
URL:https://www.ticti.org/event/attachment-dissociation-winter-2026-december-7-10-2026-half-days-live-online/
CATEGORIES:Attachment & Dissociation
END:VEVENT
END:VCALENDAR