BEGIN:VCALENDAR
VERSION:2.0
PRODID:-//Trauma Institute &amp; Child Trauma Institute - ECPv6.15.17//NONSGML v1.0//EN
CALSCALE:GREGORIAN
METHOD:PUBLISH
X-WR-CALNAME:Trauma Institute &amp; Child Trauma Institute
X-ORIGINAL-URL:https://www.ticti.org
X-WR-CALDESC:Events for Trauma Institute &amp; Child Trauma Institute
REFRESH-INTERVAL;VALUE=DURATION:PT1H
X-Robots-Tag:noindex
X-PUBLISHED-TTL:PT1H
BEGIN:VTIMEZONE
TZID:UTC
BEGIN:STANDARD
TZOFFSETFROM:+0000
TZOFFSETTO:+0000
TZNAME:UTC
DTSTART:20250101T000000
END:STANDARD
END:VTIMEZONE
BEGIN:VEVENT
DTSTART;VALUE=DATE:20260713
DTEND;VALUE=DATE:20260715
DTSTAMP:20260419T110848
CREATED:20260417T195635Z
LAST-MODIFIED:20260417T195936Z
UID:52395-1783940400-1784026799@www.ticti.org
SUMMARY:EMDR - Summer 2026 (beginning July 13\, 2026) - Live Online - *Half-Days* - Neuro-Affirming
DESCRIPTION:Summer 2026 (beginning July 13) – Live Online – *Half Days* – Neuro-Affirming\nJuly 13-16\, August 17-20\, 24-27\, October 1-2\, November 4. (1:00 – 4:30 ET) \nInstructor: Jessica Horder\, MS\, LMHC\, (she/her) is a neurodivergent woman.  She is an EMDRIA approved clinician\, consultant\, and trainer. She is also trained in Progressive Counting (PC)\, Flash\, and has been intensively trained in Dialectical Behavior Therapy (DBT). \n\nPrice includes CEs.\nNo Interest Payment plan. $1725\, early bird rate $1525 through June 13. \n			\n				\n	\n		EMDR – Summer 2026 (beginning July 13\, 2026) – Live Online\n\n	\n			\n			\n									\n						EMDR Certification Package\n						\n							Choose an optionDo not add EMDR Certification PackageAdd EMDR Certification Package +$1775Clear						\n					\n							\n		\n		\n		\n		\n			\n			\n		\n\n					\n\n					\n									\n											\n									\n											\n							\n				If you are an organization purchasing in behalf of the attendees\, you will need to purchase the training product individually for each attendee.\n Trainee First Name *Trainee Last Name *Trainee's Primary Contact Email *Trainee's Primary Phone Number *Trainee's License Title *Trainee's License Number *Materials * Hardcopy Book Digital BookHow did you hear about us? *-select one-TICTI NewsletterFacebookLinkedInWeb Search EngineGoogle AdTICTI EmployeeFormer TICTI TraineeOther\n	\n		EMDR - Summer 2026 (beginning July 13\, 2026) - Live Online quantity\n	\n	\n\n	Add to cart
URL:https://www.ticti.org/event/emdr-summer-2026-beginning-july-13-2026-live-online-half-days-neuro-affirming/
CATEGORIES:EMDR,In-house Training
END:VEVENT
END:VCALENDAR