BEGIN:VCALENDAR
VERSION:2.0
PRODID:-//Trauma Institute &amp; Child Trauma Institute - ECPv6.15.17//NONSGML v1.0//EN
CALSCALE:GREGORIAN
METHOD:PUBLISH
X-WR-CALNAME:Trauma Institute &amp; Child Trauma Institute
X-ORIGINAL-URL:https://www.ticti.org
X-WR-CALDESC:Events for Trauma Institute &amp; Child Trauma Institute
REFRESH-INTERVAL;VALUE=DURATION:PT1H
X-Robots-Tag:noindex
X-PUBLISHED-TTL:PT1H
BEGIN:VTIMEZONE
TZID:UTC
BEGIN:STANDARD
TZOFFSETFROM:+0000
TZOFFSETTO:+0000
TZNAME:UTC
DTSTART:20250101T000000
END:STANDARD
END:VTIMEZONE
BEGIN:VEVENT
DTSTART;TZID=UTC:20260507T120000
DTEND;TZID=UTC:20260507T130000
DTSTAMP:20260421T100729
CREATED:20260420T161246Z
LAST-MODIFIED:20260420T161336Z
UID:52409-1778155200-1778158800@www.ticti.org
SUMMARY:Introduction to EMDR - Spring 2026 (May 7\, 2026) - Live Online
DESCRIPTION:Spring 2026 (May 7\, 2026) – Live Online\nMay 7 (12:00 – 1:00 Eastern Time) \nInstructor: Ricky Greenwald\, PsyD\, is the founder and executive director of Trauma Institute & Child Trauma Institute (TICTI). He is a leading expert in EMDR\, the developer of PC\, and the developer of our intensive trauma therapy format. \n\n1 CE. \n			\n				\n	\n		Introduction to EMDR – Spring 2026 (May 7\, 2026) – Live Online\n	$0.00\n	\n		If you are an organization purchasing in behalf of the attendees\, you will need to purchase the training product individually for each attendee.\n Trainee First Name *Trainee Last Name *Trainee's Primary Contact Email *Trainee's License Title *Trainee's License Number *\n		\n		Introduction to EMDR - Spring 2026 (May 7\, 2026) - Live Online quantity\n	\n	\n\n		Add to cart
URL:https://www.ticti.org/event/introduction-to-emdr-spring-2026-may-7-2026-live-online/
CATEGORIES:Introduction to EMDR
END:VEVENT
END:VCALENDAR