BEGIN:VCALENDAR
VERSION:2.0
PRODID:-//Trauma Institute &amp; Child Trauma Institute - ECPv6.15.17//NONSGML v1.0//EN
CALSCALE:GREGORIAN
METHOD:PUBLISH
X-WR-CALNAME:Trauma Institute &amp; Child Trauma Institute
X-ORIGINAL-URL:https://www.ticti.org
X-WR-CALDESC:Events for Trauma Institute &amp; Child Trauma Institute
REFRESH-INTERVAL;VALUE=DURATION:PT1H
X-Robots-Tag:noindex
X-PUBLISHED-TTL:PT1H
BEGIN:VTIMEZONE
TZID:America/New_York
BEGIN:DAYLIGHT
TZOFFSETFROM:-0500
TZOFFSETTO:-0400
TZNAME:EDT
DTSTART:20240310T070000
END:DAYLIGHT
BEGIN:STANDARD
TZOFFSETFROM:-0400
TZOFFSETTO:-0500
TZNAME:EST
DTSTART:20241103T060000
END:STANDARD
BEGIN:DAYLIGHT
TZOFFSETFROM:-0500
TZOFFSETTO:-0400
TZNAME:EDT
DTSTART:20250309T070000
END:DAYLIGHT
BEGIN:STANDARD
TZOFFSETFROM:-0400
TZOFFSETTO:-0500
TZNAME:EST
DTSTART:20251102T060000
END:STANDARD
BEGIN:DAYLIGHT
TZOFFSETFROM:-0500
TZOFFSETTO:-0400
TZNAME:EDT
DTSTART:20260308T070000
END:DAYLIGHT
BEGIN:STANDARD
TZOFFSETFROM:-0400
TZOFFSETTO:-0500
TZNAME:EST
DTSTART:20261101T060000
END:STANDARD
END:VTIMEZONE
BEGIN:VEVENT
DTSTART;TZID=America/New_York:20250312T090000
DTEND;TZID=America/New_York:20250312T170000
DTSTAMP:20260422T003029
CREATED:20240807T160902Z
LAST-MODIFIED:20250213T135425Z
UID:42724-1741770000-1741798800@www.ticti.org
SUMMARY:Slaying the Dragon: The Fairy Tale Model of Trauma Treatment (Live Online) – March 12\, 2025
DESCRIPTION:Spring 2025 – LIVE ONLINE\nMarch 12\, 9:00-5:00 Eastern Standard time. \nInstructor: Ricky Greenwald\, PsyD\n\n \n\nThis training is full and no longer available for registration.  To sign up for our waitlist\, please go here. \nClick here to view upcoming trainings
URL:https://www.ticti.org/event/slaying-the-dragon-the-fairy-tale-model-of-trauma-treatment-live-online-march-11-2025/
CATEGORIES:Slaying the Dragon
END:VEVENT
END:VCALENDAR