BEGIN:VCALENDAR
VERSION:2.0
PRODID:-//Trauma Institute &amp; Child Trauma Institute - ECPv6.15.17//NONSGML v1.0//EN
CALSCALE:GREGORIAN
METHOD:PUBLISH
X-WR-CALNAME:Trauma Institute &amp; Child Trauma Institute
X-ORIGINAL-URL:https://www.ticti.org
X-WR-CALDESC:Events for Trauma Institute &amp; Child Trauma Institute
REFRESH-INTERVAL;VALUE=DURATION:PT1H
X-Robots-Tag:noindex
X-PUBLISHED-TTL:PT1H
BEGIN:VTIMEZONE
TZID:UTC
BEGIN:STANDARD
TZOFFSETFROM:+0000
TZOFFSETTO:+0000
TZNAME:UTC
DTSTART:20240101T000000
END:STANDARD
END:VTIMEZONE
BEGIN:VEVENT
DTSTART;VALUE=DATE:20250518
DTEND;VALUE=DATE:20250520
DTSTAMP:20260422T075537
CREATED:20241118T141032Z
LAST-MODIFIED:20241118T141515Z
UID:44142-1747566000-1747652399@www.ticti.org
SUMMARY:Trauma Trainers Retreat\, May 2025
DESCRIPTION:Spring 2025 – ONLINE\nMay 18\, 3:00 PM – 5:00 PM; May 19 – 22\, 9:00 PM – 5:00 PM; May 23\, 9:00 AM – 12:30 PM Eastern Standard Time \nInstructors: Ricky Greenwald\, PsyD\n\n \nThis training is full and no longer available for registration.  To sign up for our waitlist\, please go here. \nClick here to view upcoming trainings
URL:https://www.ticti.org/event/trauma-trainers-retreat-may-2025/
CATEGORIES:Trauma Trainers Retreat
END:VEVENT
END:VCALENDAR